BEGIN:VCALENDAR
VERSION:2.0
PRODID:-//National Association of Teachers of Dancing (NATD) - ECPv6.15.20//NONSGML v1.0//EN
CALSCALE:GREGORIAN
METHOD:PUBLISH
X-WR-CALNAME:National Association of Teachers of Dancing (NATD)
X-ORIGINAL-URL:https://www.natd.org.uk
X-WR-CALDESC:Events for National Association of Teachers of Dancing (NATD)
REFRESH-INTERVAL;VALUE=DURATION:PT1H
X-Robots-Tag:noindex
X-PUBLISHED-TTL:PT1H
BEGIN:VTIMEZONE
TZID:Europe/London
BEGIN:DAYLIGHT
TZOFFSETFROM:+0000
TZOFFSETTO:+0100
TZNAME:BST
DTSTART:20250330T010000
END:DAYLIGHT
BEGIN:STANDARD
TZOFFSETFROM:+0100
TZOFFSETTO:+0000
TZNAME:GMT
DTSTART:20251026T010000
END:STANDARD
BEGIN:DAYLIGHT
TZOFFSETFROM:+0000
TZOFFSETTO:+0100
TZNAME:BST
DTSTART:20260329T010000
END:DAYLIGHT
BEGIN:STANDARD
TZOFFSETFROM:+0100
TZOFFSETTO:+0000
TZNAME:GMT
DTSTART:20261025T010000
END:STANDARD
BEGIN:DAYLIGHT
TZOFFSETFROM:+0000
TZOFFSETTO:+0100
TZNAME:BST
DTSTART:20270328T010000
END:DAYLIGHT
BEGIN:STANDARD
TZOFFSETFROM:+0100
TZOFFSETTO:+0000
TZNAME:GMT
DTSTART:20271031T010000
END:STANDARD
BEGIN:DAYLIGHT
TZOFFSETFROM:+0000
TZOFFSETTO:+0100
TZNAME:BST
DTSTART:20280326T010000
END:DAYLIGHT
BEGIN:STANDARD
TZOFFSETFROM:+0100
TZOFFSETTO:+0000
TZNAME:GMT
DTSTART:20281029T010000
END:STANDARD
END:VTIMEZONE
BEGIN:VEVENT
DTSTART;TZID=Europe/London:20261213T090000
DTEND;TZID=Europe/London:20261213T170000
DTSTAMP:20260423T064250
CREATED:20250809T124411Z
LAST-MODIFIED:20260315T094156Z
UID:10000259-1797152400-1797181200@www.natd.org.uk
SUMMARY:Sequence Competition
DESCRIPTION:A unique platform that not only allows dancers to demonstrate their skills\, but provides a fantastic opportunity to celebrate the art of dance with other friendly NATD dance schools in our area. 👉 Contact Siobhan Buchanan for more information northmidlandtheatrical@natd.org.uk 								\n					\n				\n		\n					\n				\n									👉 PLEASE NOTE Tickets limited to one spectator ticket per dancer.
URL:https://www.natd.org.uk/event/sequence-competition/
LOCATION:Kirkby Leisure Centre\, Hodgkinson Rd\, Kirkby in Ashfield\, Nottingham\, NG17 7DJ
CATEGORIES:120th Anniversary Event,Latin American,Sequence
ATTACH;FMTTYPE=image/webp:https://www.natd.org.uk/wp-content/uploads/2025/08/NATD-Sequence-Competition-2026.1.webp
END:VEVENT
BEGIN:VEVENT
DTSTART;TZID=Europe/London:20270314T090000
DTEND;TZID=Europe/London:20270314T160000
DTSTAMP:20260423T064250
CREATED:20260121T115424Z
LAST-MODIFIED:20260121T115612Z
UID:10000280-1805014800-1805040000@www.natd.org.uk
SUMMARY:Midland Area Juvenile and Junior Workshop
DESCRIPTION:A unique platform that not only allows dancers to demonstrate their skills\, but provides a fantastic opportunity to celebrate the art of dance with other friendly NATD dance schools in our area. 👉 Contact Siobhan Buchanan for more information northmidlandtheatrical@natd.org.uk 								\n					\n				\n		\n					\n				\n									👉 PLEASE NOTE Tickets limited to one spectator ticket per dancer.
URL:https://www.natd.org.uk/event/midland-area-juvenile-and-junior-workshop/
CATEGORIES:Ballroom,Freestyle,Latin American,Rock 'n' Roll,Slow,Theatrical,Workshops
ATTACH;FMTTYPE=image/jpeg:https://www.natd.org.uk/wp-content/uploads/2024/12/NATD-Midlands-Area-logo-compressed-e1733328873305.jpeg
ORGANIZER;CN="Midlands Area Committee":MAILTO:midlands@natd.org.uk
END:VEVENT
BEGIN:VEVENT
DTSTART;TZID=Europe/London:20270418T090000
DTEND;TZID=Europe/London:20270418T170000
DTSTAMP:20260423T064250
CREATED:20260121T114412Z
LAST-MODIFIED:20260209T114928Z
UID:10000278-1808038800-1808067600@www.natd.org.uk
SUMMARY:Midland Area 2027 MOY Qualifier/ Social Competition Ballroom and Latin
DESCRIPTION:A unique platform that not only allows dancers to demonstrate their skills\, but provides a fantastic opportunity to celebrate the art of dance with other friendly NATD dance schools in our area. 👉 Contact Siobhan Buchanan for more information northmidlandtheatrical@natd.org.uk 								\n					\n				\n		\n					\n				\n									👉 PLEASE NOTE Tickets limited to one spectator ticket per dancer.
URL:https://www.natd.org.uk/event/midland-area-2028-moy-qualifier-social-competition-ballroom-and-latin-2/
CATEGORIES:Ballroom,Ballroom Medalist Of The Year,Ballroom & Latin,Ballroom & Latin Competition
ATTACH;FMTTYPE=image/jpeg:https://www.natd.org.uk/wp-content/uploads/2024/12/NATD-Midlands-Area-logo-compressed-e1733328873305.jpeg
ORGANIZER;CN="Midlands Area Committee":MAILTO:midlands@natd.org.uk
END:VEVENT
BEGIN:VEVENT
DTSTART;TZID=Europe/London:20270613T090000
DTEND;TZID=Europe/London:20270613T170000
DTSTAMP:20260423T064250
CREATED:20260121T113755Z
LAST-MODIFIED:20260209T115003Z
UID:10000276-1812877200-1812906000@www.natd.org.uk
SUMMARY:Midland Area Social Ballroom and Latin Competition 2027
DESCRIPTION:A unique platform that not only allows dancers to demonstrate their skills\, but provides a fantastic opportunity to celebrate the art of dance with other friendly NATD dance schools in our area. 👉 Contact Siobhan Buchanan for more information northmidlandtheatrical@natd.org.uk 								\n					\n				\n		\n					\n				\n									👉 PLEASE NOTE Tickets limited to one spectator ticket per dancer.
URL:https://www.natd.org.uk/event/midland-area-social-ballroom-and-latin-competition-2027/
CATEGORIES:Ballroom,Ballroom & Latin,Ballroom & Latin Competition
ATTACH;FMTTYPE=image/jpeg:https://www.natd.org.uk/wp-content/uploads/2024/12/NATD-Midlands-Area-logo-compressed-e1733328873305.jpeg
ORGANIZER;CN="Midlands Area Committee":MAILTO:midlands@natd.org.uk
END:VEVENT
END:VCALENDAR